BEGIN:VCALENDAR
VERSION:2.0
PRODID:-//CFB - ECPv5.16.3.1//NONSGML v1.0//EN
CALSCALE:GREGORIAN
METHOD:PUBLISH
X-ORIGINAL-URL:https://cfb.org.br
X-WR-CALDESC:Eventos para CFB
REFRESH-INTERVAL;VALUE=DURATION:PT1H
X-Robots-Tag:noindex
X-PUBLISHED-TTL:PT1H
BEGIN:VTIMEZONE
TZID:UTC
BEGIN:STANDARD
TZOFFSETFROM:+0000
TZOFFSETTO:+0000
TZNAME:UTC
DTSTART:20210101T000000
END:STANDARD
END:VTIMEZONE
BEGIN:VEVENT
DTSTART;TZID=UTC:20211206T140000
DTEND;TZID=UTC:20211206T170000
DTSTAMP:20260425T150956
CREATED:20211206T115330Z
LAST-MODIFIED:20211206T115341Z
UID:6125-1638799200-1638810000@cfb.org.br
SUMMARY:Plenária 06/12
DESCRIPTION:Reunião Plenária
URL:https://cfb.org.br/evento/plenaria-06-12/
CATEGORIES:Plenária
END:VEVENT
END:VCALENDAR