BEGIN:VCALENDAR
VERSION:2.0
PRODID:-//CFB - ECPv5.16.3.1//NONSGML v1.0//EN
CALSCALE:GREGORIAN
METHOD:PUBLISH
X-ORIGINAL-URL:https://cfb.org.br
X-WR-CALDESC:Eventos para CFB
REFRESH-INTERVAL;VALUE=DURATION:PT1H
X-Robots-Tag:noindex
X-PUBLISHED-TTL:PT1H
BEGIN:VTIMEZONE
TZID:UTC
BEGIN:STANDARD
TZOFFSETFROM:+0000
TZOFFSETTO:+0000
TZNAME:UTC
DTSTART:20240101T000000
END:STANDARD
END:VTIMEZONE
BEGIN:VEVENT
DTSTART;TZID=UTC:20240120T080000
DTEND;TZID=UTC:20240120T180000
DTSTAMP:20260422T012745
CREATED:20240103T130900Z
LAST-MODIFIED:20240103T130914Z
UID:8036-1705737600-1705773600@cfb.org.br
SUMMARY:Reunião de Diretoria
DESCRIPTION:
URL:https://cfb.org.br/evento/reuniao-de-diretoria-36/
LOCATION:Conselho Federal de Biblioteconomia\, SRTVN Ed Brasilia Radio Center\, Brasília\, Distrito Federal\, 70719-900\, Brasil
CATEGORIES:Diretoria,Reuniões
END:VEVENT
BEGIN:VEVENT
DTSTART;VALUE=DATE:20240121
DTEND;VALUE=DATE:20240122
DTSTAMP:20260422T012745
CREATED:20240103T131219Z
LAST-MODIFIED:20240103T131247Z
UID:8038-1705795200-1705881599@cfb.org.br
SUMMARY:Reunião de Diretoria
DESCRIPTION:
URL:https://cfb.org.br/evento/reuniao-de-diretoria-37/
LOCATION:Conselho Federal de Biblioteconomia\, SRTVN Ed Brasilia Radio Center\, Brasília\, Distrito Federal\, 70719-900\, Brasil
CATEGORIES:Diretoria,Reuniões
END:VEVENT
END:VCALENDAR