BEGIN:VCALENDAR
VERSION:2.0
PRODID:-//CFB - ECPv5.16.3.1//NONSGML v1.0//EN
CALSCALE:GREGORIAN
METHOD:PUBLISH
X-WR-CALNAME:CFB
X-ORIGINAL-URL:https://cfb.org.br
X-WR-CALDESC:Eventos para CFB
REFRESH-INTERVAL;VALUE=DURATION:PT1H
X-Robots-Tag:noindex
X-PUBLISHED-TTL:PT1H
BEGIN:VTIMEZONE
TZID:UTC
BEGIN:STANDARD
TZOFFSETFROM:+0000
TZOFFSETTO:+0000
TZNAME:UTC
DTSTART:20230101T000000
END:STANDARD
END:VTIMEZONE
BEGIN:VEVENT
DTSTART;VALUE=DATE:20231207
DTEND;VALUE=DATE:20231208
DTSTAMP:20260422T025657
CREATED:20230920T163508Z
LAST-MODIFIED:20230920T163526Z
UID:7925-1701907200-1701993599@cfb.org.br
SUMMARY:Reunião Diretoria
DESCRIPTION:
URL:https://cfb.org.br/evento/reuniao-diretoria-6/
LOCATION:Conselho Federal de Biblioteconomia\, SRTVN Ed Brasilia Radio Center\, Brasília\, Distrito Federal\, 70719-900\, Brasil
CATEGORIES:Diretoria,Reuniões
END:VEVENT
BEGIN:VEVENT
DTSTART;VALUE=DATE:20231208
DTEND;VALUE=DATE:20231209
DTSTAMP:20260422T025657
CREATED:20221206T164516Z
LAST-MODIFIED:20230920T164034Z
UID:7419-1701993600-1702079999@cfb.org.br
SUMMARY:Reunião de Comissões / Treinamento SEI
DESCRIPTION:
URL:https://cfb.org.br/evento/reuniao-de-diretoria-33/
LOCATION:Conselho Federal de Biblioteconomia\, SRTVN Ed Brasilia Radio Center\, Brasília\, Distrito Federal\, 70719-900\, Brasil
CATEGORIES:Diretoria,Reuniões
END:VEVENT
BEGIN:VEVENT
DTSTART;VALUE=DATE:20231209
DTEND;VALUE=DATE:20231210
DTSTAMP:20260422T025657
CREATED:20221206T164806Z
LAST-MODIFIED:20230920T163903Z
UID:7421-1702080000-1702166399@cfb.org.br
SUMMARY:Reunião de Comissões / Treinamento SEI
DESCRIPTION:
URL:https://cfb.org.br/evento/reuniao-de-comissoes-7/
LOCATION:Conselho Federal de Biblioteconomia\, SRTVN Ed Brasilia Radio Center\, Brasília\, Distrito Federal\, 70719-900\, Brasil
CATEGORIES:Comissões,Reuniões
END:VEVENT
BEGIN:VEVENT
DTSTART;VALUE=DATE:20231210
DTEND;VALUE=DATE:20231211
DTSTAMP:20260422T025657
CREATED:20221206T165015Z
LAST-MODIFIED:20230327T180353Z
UID:7423-1702166400-1702252799@cfb.org.br
SUMMARY:Reunião de Comissões
DESCRIPTION:
URL:https://cfb.org.br/evento/reuniao-de-comissoes-8/
LOCATION:Conselho Federal de Biblioteconomia\, SRTVN Ed Brasilia Radio Center\, Brasília\, Distrito Federal\, 70719-900\, Brasil
CATEGORIES:Comissões,Reuniões
END:VEVENT
BEGIN:VEVENT
DTSTART;VALUE=DATE:20231211
DTEND;VALUE=DATE:20231212
DTSTAMP:20260422T025657
CREATED:20221206T165122Z
LAST-MODIFIED:20230327T180508Z
UID:7425-1702252800-1702339199@cfb.org.br
SUMMARY:Reunião Plenária
DESCRIPTION:
URL:https://cfb.org.br/evento/reuniao-plenaria-14/
LOCATION:Conselho Federal de Biblioteconomia\, SRTVN Ed Brasilia Radio Center\, Brasília\, Distrito Federal\, 70719-900\, Brasil
CATEGORIES:Plenária,Reuniões
END:VEVENT
BEGIN:VEVENT
DTSTART;VALUE=DATE:20231212
DTEND;VALUE=DATE:20231213
DTSTAMP:20260422T025657
CREATED:20221206T165417Z
LAST-MODIFIED:20230327T180555Z
UID:7427-1702339200-1702425599@cfb.org.br
SUMMARY:Reunião Plenária
DESCRIPTION:
URL:https://cfb.org.br/evento/reuniao-plenaria-15/
LOCATION:Conselho Federal de Biblioteconomia\, SRTVN Ed Brasilia Radio Center\, Brasília\, Distrito Federal\, 70719-900\, Brasil
CATEGORIES:Plenária,Reuniões
END:VEVENT
END:VCALENDAR