BEGIN:VCALENDAR
VERSION:2.0
PRODID:-//CFB - ECPv5.16.3.1//NONSGML v1.0//EN
CALSCALE:GREGORIAN
METHOD:PUBLISH
X-ORIGINAL-URL:https://cfb.org.br
X-WR-CALDESC:Eventos para CFB
REFRESH-INTERVAL;VALUE=DURATION:PT1H
X-Robots-Tag:noindex
X-PUBLISHED-TTL:PT1H
BEGIN:VTIMEZONE
TZID:UTC
BEGIN:STANDARD
TZOFFSETFROM:+0000
TZOFFSETTO:+0000
TZNAME:UTC
DTSTART:20230101T000000
END:STANDARD
END:VTIMEZONE
BEGIN:VEVENT
DTSTART;VALUE=DATE:20230606
DTEND;VALUE=DATE:20230607
DTSTAMP:20260422T122211
CREATED:20221206T161129Z
LAST-MODIFIED:20221206T161129Z
UID:7383-1686009600-1686095999@cfb.org.br
SUMMARY:Reunião Diretoria
DESCRIPTION:
URL:https://cfb.org.br/evento/reuniao-diretoria-5/
LOCATION:Conselho Federal de Biblioteconomia\, SRTVN Ed Brasilia Radio Center\, Brasília\, Distrito Federal\, 70719-900\, Brasil
CATEGORIES:Diretoria,Reuniões
END:VEVENT
BEGIN:VEVENT
DTSTART;VALUE=DATE:20230607
DTEND;VALUE=DATE:20230608
DTSTAMP:20260422T122211
CREATED:20221206T161319Z
LAST-MODIFIED:20221206T161319Z
UID:7385-1686096000-1686182399@cfb.org.br
SUMMARY:Reunião de Comissão
DESCRIPTION:
URL:https://cfb.org.br/evento/reuniao-de-comissao/
LOCATION:Conselho Federal de Biblioteconomia\, SRTVN Ed Brasilia Radio Center\, Brasília\, Distrito Federal\, 70719-900\, Brasil
CATEGORIES:Comissões,Reuniões
END:VEVENT
BEGIN:VEVENT
DTSTART;VALUE=DATE:20230608
DTEND;VALUE=DATE:20230609
DTSTAMP:20260422T122211
CREATED:20221206T161517Z
LAST-MODIFIED:20221206T161517Z
UID:7387-1686182400-1686268799@cfb.org.br
SUMMARY:Reunião de Comissão
DESCRIPTION:
URL:https://cfb.org.br/evento/reuniao-de-comissao-2/
LOCATION:Conselho Federal de Biblioteconomia\, SRTVN Ed Brasilia Radio Center\, Brasília\, Distrito Federal\, 70719-900\, Brasil
CATEGORIES:Comissões,Reuniões
END:VEVENT
BEGIN:VEVENT
DTSTART;VALUE=DATE:20230609
DTEND;VALUE=DATE:20230610
DTSTAMP:20260422T122211
CREATED:20221206T162043Z
LAST-MODIFIED:20221206T162043Z
UID:7389-1686268800-1686355199@cfb.org.br
SUMMARY:Assembléia do Sistema
DESCRIPTION:
URL:https://cfb.org.br/evento/assembleia-do-sistema/
LOCATION:Conselho Federal de Biblioteconomia\, SRTVN Ed Brasilia Radio Center\, Brasília\, Distrito Federal\, 70719-900\, Brasil
CATEGORIES:Assembleia,Reuniões
END:VEVENT
BEGIN:VEVENT
DTSTART;TZID=UTC:20230610T080000
DTEND;TZID=UTC:20230610T170000
DTSTAMP:20260422T122211
CREATED:20221206T162205Z
LAST-MODIFIED:20221206T162205Z
UID:7391-1686384000-1686416400@cfb.org.br
SUMMARY:Reunião Plenária
DESCRIPTION:
URL:https://cfb.org.br/evento/reuniao-plenaria-10/
LOCATION:Conselho Federal de Biblioteconomia\, SRTVN Ed Brasilia Radio Center\, Brasília\, Distrito Federal\, 70719-900\, Brasil
CATEGORIES:Plenária,Reuniões
END:VEVENT
BEGIN:VEVENT
DTSTART;VALUE=DATE:20230611
DTEND;VALUE=DATE:20230612
DTSTAMP:20260422T122211
CREATED:20221206T162432Z
LAST-MODIFIED:20221206T162432Z
UID:7393-1686441600-1686527999@cfb.org.br
SUMMARY:Reunião Plenária
DESCRIPTION:
URL:https://cfb.org.br/evento/reuniao-plenaria-11/
LOCATION:Conselho Federal de Biblioteconomia\, SRTVN Ed Brasilia Radio Center\, Brasília\, Distrito Federal\, 70719-900\, Brasil
CATEGORIES:Plenária,Reuniões
END:VEVENT
END:VCALENDAR