BEGIN:VCALENDAR
VERSION:2.0
PRODID:-//CFB - ECPv5.16.3.1//NONSGML v1.0//EN
CALSCALE:GREGORIAN
METHOD:PUBLISH
X-ORIGINAL-URL:https://cfb.org.br
X-WR-CALDESC:Eventos para CFB
REFRESH-INTERVAL;VALUE=DURATION:PT1H
X-Robots-Tag:noindex
X-PUBLISHED-TTL:PT1H
BEGIN:VTIMEZONE
TZID:UTC
BEGIN:STANDARD
TZOFFSETFROM:+0000
TZOFFSETTO:+0000
TZNAME:UTC
DTSTART:20220101T000000
END:STANDARD
END:VTIMEZONE
BEGIN:VEVENT
DTSTART;VALUE=DATE:20221017
DTEND;VALUE=DATE:20221018
DTSTAMP:20260424T111021
CREATED:20220331T121850Z
LAST-MODIFIED:20220331T121851Z
UID:6907-1665964800-1666051199@cfb.org.br
SUMMARY:Reunião Virtual
DESCRIPTION:
URL:https://cfb.org.br/evento/reuniao-virtual-7/
LOCATION:Virtual
CATEGORIES:Reuniões
END:VEVENT
BEGIN:VEVENT
DTSTART;VALUE=DATE:20221018
DTEND;VALUE=DATE:20221019
DTSTAMP:20260424T111021
CREATED:20220407T130447Z
LAST-MODIFIED:20220407T130447Z
UID:6940-1666051200-1666137599@cfb.org.br
SUMMARY:Reunião Virtual
DESCRIPTION:
URL:https://cfb.org.br/evento/reuniao-virtual-16/
LOCATION:Virtual
CATEGORIES:Reuniões
END:VEVENT
BEGIN:VEVENT
DTSTART;VALUE=DATE:20221019
DTEND;VALUE=DATE:20221020
DTSTAMP:20260424T111021
CREATED:20220407T130529Z
LAST-MODIFIED:20220920T135039Z
UID:6942-1666137600-1666223999@cfb.org.br
SUMMARY:Reunião Virtual
DESCRIPTION:
URL:https://cfb.org.br/evento/reuniao-virtual-17/
LOCATION:Virtual
CATEGORIES:Reuniões
END:VEVENT
BEGIN:VEVENT
DTSTART;VALUE=DATE:20221020
DTEND;VALUE=DATE:20221021
DTSTAMP:20260424T111021
CREATED:20220407T130709Z
LAST-MODIFIED:20220407T130709Z
UID:6944-1666224000-1666310399@cfb.org.br
SUMMARY:Reunião Virtual
DESCRIPTION:
URL:https://cfb.org.br/evento/reuniao-virtual-18/
LOCATION:Virtual
CATEGORIES:Reuniões
END:VEVENT
BEGIN:VEVENT
DTSTART;VALUE=DATE:20221022
DTEND;VALUE=DATE:20221023
DTSTAMP:20260424T111021
CREATED:20220107T163824Z
LAST-MODIFIED:20220331T120228Z
UID:6621-1666396800-1666483199@cfb.org.br
SUMMARY:Reunião de Diretoria
DESCRIPTION:
URL:https://cfb.org.br/evento/reuniao-de-diretoria-16/
LOCATION:Conselho Federal de Biblioteconomia\, SRTVN Ed Brasilia Radio Center\, Brasília\, Distrito Federal\, 70719-900\, Brasil
CATEGORIES:Diretoria,Reuniões
END:VEVENT
BEGIN:VEVENT
DTSTART;VALUE=DATE:20221023
DTEND;VALUE=DATE:20221024
DTSTAMP:20260424T111021
CREATED:20220925T124655Z
LAST-MODIFIED:20220925T124655Z
UID:7240-1666483200-1666569599@cfb.org.br
SUMMARY:Reunião de Diretoria
DESCRIPTION:
URL:https://cfb.org.br/evento/reuniao-de-diretoria-15/
LOCATION:Conselho Federal de Biblioteconomia\, SRTVN Ed Brasilia Radio Center\, Brasília\, Distrito Federal\, 70719-900\, Brasil
CATEGORIES:Diretoria,Reuniões
END:VEVENT
END:VCALENDAR