BEGIN:VCALENDAR
VERSION:2.0
PRODID:-//CFB - ECPv5.16.3.1//NONSGML v1.0//EN
CALSCALE:GREGORIAN
METHOD:PUBLISH
X-ORIGINAL-URL:https://cfb.org.br
X-WR-CALDESC:Eventos para CFB
REFRESH-INTERVAL;VALUE=DURATION:PT1H
X-Robots-Tag:noindex
X-PUBLISHED-TTL:PT1H
BEGIN:VTIMEZONE
TZID:UTC
BEGIN:STANDARD
TZOFFSETFROM:+0000
TZOFFSETTO:+0000
TZNAME:UTC
DTSTART:20240101T000000
END:STANDARD
END:VTIMEZONE
BEGIN:VEVENT
DTSTART;VALUE=DATE:20240324
DTEND;VALUE=DATE:20240325
DTSTAMP:20260422T011418
CREATED:20240103T133129Z
LAST-MODIFIED:20240103T134420Z
UID:8052-1711238400-1711324799@cfb.org.br
SUMMARY:Workshop Sistema CFB/CRB
DESCRIPTION:
URL:https://cfb.org.br/evento/workshop-2/
LOCATION:Conselho Federal de Biblioteconomia\, SRTVN Ed Brasilia Radio Center\, Brasília\, Distrito Federal\, 70719-900\, Brasil
CATEGORIES:Workshop
END:VEVENT
BEGIN:VEVENT
DTSTART;VALUE=DATE:20240325
DTEND;VALUE=DATE:20240326
DTSTAMP:20260422T011418
CREATED:20240103T133303Z
LAST-MODIFIED:20240103T134517Z
UID:8054-1711324800-1711411199@cfb.org.br
SUMMARY:Assembleia do Sistema CFB/CRB
DESCRIPTION:
URL:https://cfb.org.br/evento/assembleia-do-sistema-2/
LOCATION:Conselho Federal de Biblioteconomia\, SRTVN Ed Brasilia Radio Center\, Brasília\, Distrito Federal\, 70719-900\, Brasil
CATEGORIES:Assembléia Geral
END:VEVENT
BEGIN:VEVENT
DTSTART;TZID=UTC:20240326T080000
DTEND;TZID=UTC:20240326T233000
DTSTAMP:20260422T011418
CREATED:20240319T161303Z
LAST-MODIFIED:20240319T170341Z
UID:8209-1711440000-1711495800@cfb.org.br
SUMMARY:Sessão Solene em comemoração pelo dia da Bibliotecária e do Bibliotecário no Brasil
DESCRIPTION:
URL:https://cfb.org.br/evento/sessao-solene-em-comemoracao-pelo-dia-da-bibliotecaria-e-do-bibliotecario-no-brasil/
LOCATION:Plenário do Senado Federal.\, Brasil
CATEGORIES:Eventos
END:VEVENT
BEGIN:VEVENT
DTSTART;VALUE=DATE:20240327
DTEND;VALUE=DATE:20240328
DTSTAMP:20260422T011418
CREATED:20240103T135210Z
LAST-MODIFIED:20240103T135252Z
UID:8062-1711497600-1711583999@cfb.org.br
SUMMARY:Reunião Plenária
DESCRIPTION:
URL:https://cfb.org.br/evento/reuniao-plenaria-17/
LOCATION:Conselho Federal de Biblioteconomia\, SRTVN Ed Brasilia Radio Center\, Brasília\, Distrito Federal\, 70719-900\, Brasil
CATEGORIES:Plenária,Reuniões
END:VEVENT
BEGIN:VEVENT
DTSTART;VALUE=DATE:20240328
DTEND;VALUE=DATE:20240329
DTSTAMP:20260422T011418
CREATED:20240108T174711Z
LAST-MODIFIED:20240108T174711Z
UID:8125-1711584000-1711670399@cfb.org.br
SUMMARY:Reunião Plenária
DESCRIPTION:
URL:https://cfb.org.br/evento/reuniao-plenaria-23/
LOCATION:Conselho Federal de Biblioteconomia\, SRTVN Ed Brasilia Radio Center\, Brasília\, Distrito Federal\, 70719-900\, Brasil
CATEGORIES:Plenária,Reuniões
END:VEVENT
BEGIN:VEVENT
DTSTART;VALUE=DATE:20240413
DTEND;VALUE=DATE:20240414
DTSTAMP:20260422T011418
CREATED:20240103T135456Z
LAST-MODIFIED:20240103T135845Z
UID:8064-1712966400-1713052799@cfb.org.br
SUMMARY:Reunião de Diretoria
DESCRIPTION:
URL:https://cfb.org.br/evento/reuniao-de-doretoria/
LOCATION:Conselho Federal de Biblioteconomia\, SRTVN Ed Brasilia Radio Center\, Brasília\, Distrito Federal\, 70719-900\, Brasil
CATEGORIES:Diretoria,Reuniões
END:VEVENT
BEGIN:VEVENT
DTSTART;VALUE=DATE:20240414
DTEND;VALUE=DATE:20240415
DTSTAMP:20260422T011418
CREATED:20240103T135545Z
LAST-MODIFIED:20240103T140031Z
UID:8066-1713052800-1713139199@cfb.org.br
SUMMARY:Reunião de Diretoria
DESCRIPTION:
URL:https://cfb.org.br/evento/reuniao-de-doretoria-2/
LOCATION:Conselho Federal de Biblioteconomia\, SRTVN Ed Brasilia Radio Center\, Brasília\, Distrito Federal\, 70719-900\, Brasil
CATEGORIES:Diretoria,Reuniões
END:VEVENT
BEGIN:VEVENT
DTSTART;VALUE=DATE:20240517
DTEND;VALUE=DATE:20240518
DTSTAMP:20260422T011418
CREATED:20240103T135805Z
LAST-MODIFIED:20240423T130857Z
UID:8070-1715904000-1715990399@cfb.org.br
SUMMARY:Reunião de Diretoria
DESCRIPTION:
URL:https://cfb.org.br/evento/reuniao-de-diretoria-42/
LOCATION:Conselho Federal de Biblioteconomia\, SRTVN Ed Brasilia Radio Center\, Brasília\, Distrito Federal\, 70719-900\, Brasil
CATEGORIES:Diretoria,Reuniões
END:VEVENT
BEGIN:VEVENT
DTSTART;VALUE=DATE:20240518
DTEND;VALUE=DATE:20240519
DTSTAMP:20260422T011418
CREATED:20240103T135716Z
LAST-MODIFIED:20240103T135716Z
UID:8068-1715990400-1716076799@cfb.org.br
SUMMARY:Reunião de Diretoria
DESCRIPTION:
URL:https://cfb.org.br/evento/reuniao-de-diretoria-41/
LOCATION:Conselho Federal de Biblioteconomia\, SRTVN Ed Brasilia Radio Center\, Brasília\, Distrito Federal\, 70719-900\, Brasil
CATEGORIES:Diretoria,Reuniões
END:VEVENT
BEGIN:VEVENT
DTSTART;VALUE=DATE:20240614
DTEND;VALUE=DATE:20240615
DTSTAMP:20260422T011418
CREATED:20240103T140233Z
LAST-MODIFIED:20240103T142201Z
UID:8074-1718323200-1718409599@cfb.org.br
SUMMARY:Reunião de Diretoria
DESCRIPTION:
URL:https://cfb.org.br/evento/reuniao-de-diretoria-43/
LOCATION:Conselho Federal de Biblioteconomia\, SRTVN Ed Brasilia Radio Center\, Brasília\, Distrito Federal\, 70719-900\, Brasil
CATEGORIES:Diretoria,Reuniões
END:VEVENT
BEGIN:VEVENT
DTSTART;TZID=UTC:20240615T080000
DTEND;TZID=UTC:20240615T170000
DTSTAMP:20260422T011418
CREATED:20240103T142256Z
LAST-MODIFIED:20240103T142256Z
UID:8076-1718438400-1718470800@cfb.org.br
SUMMARY:Reuniões das Comissões
DESCRIPTION:
URL:https://cfb.org.br/evento/reunioes-das-comissoes/
LOCATION:Conselho Federal de Biblioteconomia\, SRTVN Ed Brasilia Radio Center\, Brasília\, Distrito Federal\, 70719-900\, Brasil
CATEGORIES:Comissões,Reuniões
END:VEVENT
BEGIN:VEVENT
DTSTART;VALUE=DATE:20240616
DTEND;VALUE=DATE:20240617
DTSTAMP:20260422T011418
CREATED:20240103T142400Z
LAST-MODIFIED:20240103T142400Z
UID:8078-1718496000-1718582399@cfb.org.br
SUMMARY:Reuniões das Comissões
DESCRIPTION:
URL:https://cfb.org.br/evento/reunioes-das-comissoes-2/
LOCATION:Conselho Federal de Biblioteconomia\, SRTVN Ed Brasilia Radio Center\, Brasília\, Distrito Federal\, 70719-900\, Brasil
CATEGORIES:Comissões,Reuniões
END:VEVENT
BEGIN:VEVENT
DTSTART;VALUE=DATE:20240617
DTEND;VALUE=DATE:20240618
DTSTAMP:20260422T011418
CREATED:20240103T142538Z
LAST-MODIFIED:20240103T142538Z
UID:8080-1718582400-1718668799@cfb.org.br
SUMMARY:Reunião Plenária
DESCRIPTION:
URL:https://cfb.org.br/evento/reuniao-plenaria-18/
LOCATION:Conselho Federal de Biblioteconomia\, SRTVN Ed Brasilia Radio Center\, Brasília\, Distrito Federal\, 70719-900\, Brasil
CATEGORIES:Plenária,Reuniões
END:VEVENT
BEGIN:VEVENT
DTSTART;VALUE=DATE:20240618
DTEND;VALUE=DATE:20240619
DTSTAMP:20260422T011418
CREATED:20240103T143017Z
LAST-MODIFIED:20240103T143153Z
UID:8082-1718668800-1718755199@cfb.org.br
SUMMARY:Reunião Plenária
DESCRIPTION:
URL:https://cfb.org.br/evento/reunioes-das-comissoes-3/
LOCATION:Conselho Federal de Biblioteconomia\, SRTVN Ed Brasilia Radio Center\, Brasília\, Distrito Federal\, 70719-900\, Brasil
CATEGORIES:Plenária,Reuniões
END:VEVENT
BEGIN:VEVENT
DTSTART;VALUE=DATE:20240713
DTEND;VALUE=DATE:20240714
DTSTAMP:20260422T011418
CREATED:20240103T163009Z
LAST-MODIFIED:20240103T163009Z
UID:8085-1720828800-1720915199@cfb.org.br
SUMMARY:Reunião de Diretoria
DESCRIPTION:
URL:https://cfb.org.br/evento/reuniao-de-diretoria-44/
LOCATION:Conselho Federal de Biblioteconomia\, SRTVN Ed Brasilia Radio Center\, Brasília\, Distrito Federal\, 70719-900\, Brasil
CATEGORIES:Diretoria,Reuniões
END:VEVENT
BEGIN:VEVENT
DTSTART;VALUE=DATE:20240714
DTEND;VALUE=DATE:20240715
DTSTAMP:20260422T011418
CREATED:20240103T163106Z
LAST-MODIFIED:20240103T163106Z
UID:8087-1720915200-1721001599@cfb.org.br
SUMMARY:Reunião de Diretoria
DESCRIPTION:
URL:https://cfb.org.br/evento/reuniao-de-diretoria-45/
LOCATION:Conselho Federal de Biblioteconomia\, SRTVN Ed Brasilia Radio Center\, Brasília\, Distrito Federal\, 70719-900\, Brasil
CATEGORIES:Diretoria,Reuniões
END:VEVENT
BEGIN:VEVENT
DTSTART;VALUE=DATE:20240817
DTEND;VALUE=DATE:20240818
DTSTAMP:20260422T011418
CREATED:20240103T163704Z
LAST-MODIFIED:20240103T163704Z
UID:8089-1723852800-1723939199@cfb.org.br
SUMMARY:Reunião de Diretoria
DESCRIPTION:
URL:https://cfb.org.br/evento/reuniao-de-diretoria-46/
LOCATION:Conselho Federal de Biblioteconomia\, SRTVN Ed Brasilia Radio Center\, Brasília\, Distrito Federal\, 70719-900\, Brasil
CATEGORIES:Diretoria,Reuniões
END:VEVENT
BEGIN:VEVENT
DTSTART;VALUE=DATE:20240818
DTEND;VALUE=DATE:20240819
DTSTAMP:20260422T011418
CREATED:20240103T165036Z
LAST-MODIFIED:20240103T165036Z
UID:8091-1723939200-1724025599@cfb.org.br
SUMMARY:Reunião de Diretoria
DESCRIPTION:
URL:https://cfb.org.br/evento/reuniao-de-diretoria-47/
LOCATION:Conselho Federal de Biblioteconomia\, SRTVN Ed Brasilia Radio Center\, Brasília\, Distrito Federal\, 70719-900\, Brasil
CATEGORIES:Diretoria,Reuniões
END:VEVENT
BEGIN:VEVENT
DTSTART;VALUE=DATE:20240913
DTEND;VALUE=DATE:20240914
DTSTAMP:20260422T011418
CREATED:20240103T165209Z
LAST-MODIFIED:20240103T165209Z
UID:8093-1726185600-1726271999@cfb.org.br
SUMMARY:Reunião de Diretoria
DESCRIPTION:
URL:https://cfb.org.br/evento/reuniao-de-diretoria-48/
LOCATION:Conselho Federal de Biblioteconomia\, SRTVN Ed Brasilia Radio Center\, Brasília\, Distrito Federal\, 70719-900\, Brasil
CATEGORIES:Diretoria,Reuniões
END:VEVENT
BEGIN:VEVENT
DTSTART;VALUE=DATE:20240914
DTEND;VALUE=DATE:20240915
DTSTAMP:20260422T011418
CREATED:20240103T165327Z
LAST-MODIFIED:20240103T165327Z
UID:8095-1726272000-1726358399@cfb.org.br
SUMMARY:Reuniões das Comissões
DESCRIPTION:
URL:https://cfb.org.br/evento/reunioes-das-comissoes-4/
LOCATION:Conselho Federal de Biblioteconomia\, SRTVN Ed Brasilia Radio Center\, Brasília\, Distrito Federal\, 70719-900\, Brasil
CATEGORIES:Comissões,Reuniões
END:VEVENT
BEGIN:VEVENT
DTSTART;VALUE=DATE:20240915
DTEND;VALUE=DATE:20240916
DTSTAMP:20260422T011418
CREATED:20240103T165511Z
LAST-MODIFIED:20240103T165511Z
UID:8097-1726358400-1726444799@cfb.org.br
SUMMARY:Reuniões das Comissões
DESCRIPTION:
URL:https://cfb.org.br/evento/reunioes-das-comissoes-5/
LOCATION:Conselho Federal de Biblioteconomia\, SRTVN Ed Brasilia Radio Center\, Brasília\, Distrito Federal\, 70719-900\, Brasil
CATEGORIES:Comissões,Reuniões
END:VEVENT
BEGIN:VEVENT
DTSTART;TZID=UTC:20240916T080000
DTEND;TZID=UTC:20240916T170000
DTSTAMP:20260422T011418
CREATED:20240103T165634Z
LAST-MODIFIED:20240103T165634Z
UID:8099-1726473600-1726506000@cfb.org.br
SUMMARY:Reunião Plenária
DESCRIPTION:
URL:https://cfb.org.br/evento/reuniao-plenaria-19/
LOCATION:Conselho Federal de Biblioteconomia\, SRTVN Ed Brasilia Radio Center\, Brasília\, Distrito Federal\, 70719-900\, Brasil
CATEGORIES:Plenária,Reuniões
END:VEVENT
BEGIN:VEVENT
DTSTART;VALUE=DATE:20240917
DTEND;VALUE=DATE:20240918
DTSTAMP:20260422T011418
CREATED:20240103T165728Z
LAST-MODIFIED:20240103T165728Z
UID:8101-1726531200-1726617599@cfb.org.br
SUMMARY:Reunião Plenária
DESCRIPTION:
URL:https://cfb.org.br/evento/reuniao-plenaria-20/
LOCATION:Conselho Federal de Biblioteconomia\, SRTVN Ed Brasilia Radio Center\, Brasília\, Distrito Federal\, 70719-900\, Brasil
CATEGORIES:Plenária,Reuniões
END:VEVENT
BEGIN:VEVENT
DTSTART;VALUE=DATE:20241019
DTEND;VALUE=DATE:20241020
DTSTAMP:20260422T011418
CREATED:20240103T165935Z
LAST-MODIFIED:20240624T144008Z
UID:8103-1729296000-1729382399@cfb.org.br
SUMMARY:Assembleia Geral de Delegados Eleitores
DESCRIPTION:
URL:https://cfb.org.br/evento/assembleia-eleitoral/
LOCATION:Conselho Federal de Biblioteconomia\, SRTVN Ed Brasilia Radio Center\, Brasília\, Distrito Federal\, 70719-900\, Brasil
CATEGORIES:Assembleia Geral de Delegados Eleitores
END:VEVENT
BEGIN:VEVENT
DTSTART;VALUE=DATE:20241019
DTEND;VALUE=DATE:20241020
DTSTAMP:20260422T011418
CREATED:20240625T114645Z
LAST-MODIFIED:20240625T114803Z
UID:8394-1729296000-1729382399@cfb.org.br
SUMMARY:Reunião de Diretoria
DESCRIPTION:
URL:https://cfb.org.br/evento/reuniao-de-diretoria-50/
LOCATION:Conselho Federal de Biblioteconomia\, SRTVN Ed Brasilia Radio Center\, Brasília\, Distrito Federal\, 70719-900\, Brasil
CATEGORIES:Diretoria,Reuniões
END:VEVENT
BEGIN:VEVENT
DTSTART;VALUE=DATE:20241020
DTEND;VALUE=DATE:20241021
DTSTAMP:20260422T011418
CREATED:20240103T170127Z
LAST-MODIFIED:20240103T170127Z
UID:8105-1729382400-1729468799@cfb.org.br
SUMMARY:Reunião de Diretoria
DESCRIPTION:
URL:https://cfb.org.br/evento/reuniao-de-diretoria-49/
LOCATION:Conselho Federal de Biblioteconomia\, SRTVN Ed Brasilia Radio Center\, Brasília\, Distrito Federal\, 70719-900\, Brasil
CATEGORIES:Diretoria,Reuniões
END:VEVENT
BEGIN:VEVENT
DTSTART;VALUE=DATE:20241123
DTEND;VALUE=DATE:20241124
DTSTAMP:20260422T011418
CREATED:20240103T170552Z
LAST-MODIFIED:20240624T145114Z
UID:8111-1732320000-1732406399@cfb.org.br
SUMMARY:Reuniões de Comissões
DESCRIPTION:
URL:https://cfb.org.br/evento/reuniao-de-diretoria-52/
LOCATION:Conselho Federal de Biblioteconomia\, SRTVN Ed Brasilia Radio Center\, Brasília\, Distrito Federal\, 70719-900\, Brasil
CATEGORIES:Comissões,Reuniões
END:VEVENT
BEGIN:VEVENT
DTSTART;VALUE=DATE:20241124
DTEND;VALUE=DATE:20241125
DTSTAMP:20260422T011418
CREATED:20240103T170415Z
LAST-MODIFIED:20240624T145256Z
UID:8109-1732406400-1732492799@cfb.org.br
SUMMARY:Reuniões de Comissões
DESCRIPTION:
URL:https://cfb.org.br/evento/reuniao-de-diretoria-51/
LOCATION:Conselho Federal de Biblioteconomia\, SRTVN Ed Brasilia Radio Center\, Brasília\, Distrito Federal\, 70719-900\, Brasil
CATEGORIES:Comissões,Reuniões
END:VEVENT
BEGIN:VEVENT
DTSTART;TZID=UTC:20241125T080000
DTEND;TZID=UTC:20241125T170000
DTSTAMP:20260422T011418
CREATED:20240624T145454Z
LAST-MODIFIED:20240624T145847Z
UID:8385-1732521600-1732554000@cfb.org.br
SUMMARY:Reunião Plenária
DESCRIPTION:
URL:https://cfb.org.br/evento/reuniao-plenaria-16/
LOCATION:Conselho Federal de Biblioteconomia\, SRTVN Ed Brasilia Radio Center\, Brasília\, Distrito Federal\, 70719-900\, Brasil
CATEGORIES:Plenária,Reuniões
END:VEVENT
BEGIN:VEVENT
DTSTART;TZID=UTC:20241126T080000
DTEND;TZID=UTC:20241126T170000
DTSTAMP:20260422T011418
CREATED:20240624T145545Z
LAST-MODIFIED:20240624T150002Z
UID:8387-1732608000-1732640400@cfb.org.br
SUMMARY:Reunião Plenária
DESCRIPTION:
URL:https://cfb.org.br/evento/reuniao-plenaria-21/
LOCATION:Distrito Federal
CATEGORIES:Plenária,Reuniões
END:VEVENT
END:VCALENDAR