BEGIN:VCALENDAR
VERSION:2.0
PRODID:-//CFB - ECPv5.16.3.1//NONSGML v1.0//EN
CALSCALE:GREGORIAN
METHOD:PUBLISH
X-ORIGINAL-URL:https://cfb.org.br
X-WR-CALDESC:Eventos para CFB
REFRESH-INTERVAL;VALUE=DURATION:PT1H
X-Robots-Tag:noindex
X-PUBLISHED-TTL:PT1H
BEGIN:VTIMEZONE
TZID:UTC
BEGIN:STANDARD
TZOFFSETFROM:+0000
TZOFFSETTO:+0000
TZNAME:UTC
DTSTART:20220101T000000
END:STANDARD
END:VTIMEZONE
BEGIN:VEVENT
DTSTART;VALUE=DATE:20220729
DTEND;VALUE=DATE:20220730
DTSTAMP:20260425T124926
CREATED:20220107T165907Z
LAST-MODIFIED:20220331T112839Z
UID:6637-1659052800-1659139199@cfb.org.br
SUMMARY:Reunião de Diretoria
DESCRIPTION:
URL:https://cfb.org.br/evento/reuniao-de-diretoria-20/
LOCATION:Conselho Federal de Biblioteconomia\, SRTVN Ed Brasilia Radio Center\, Brasília\, Distrito Federal\, 70719-900\, Brasil
CATEGORIES:Diretoria,Reuniões
END:VEVENT
BEGIN:VEVENT
DTSTART;VALUE=DATE:20220730
DTEND;VALUE=DATE:20220731
DTSTAMP:20260425T124926
CREATED:20220107T162449Z
LAST-MODIFIED:20220107T162449Z
UID:6607-1659139200-1659225599@cfb.org.br
SUMMARY:Reunião de Diretoria
DESCRIPTION:
URL:https://cfb.org.br/evento/reuniao-de-diretoria-11/
LOCATION:Conselho Federal de Biblioteconomia\, SRTVN Ed Brasilia Radio Center\, Brasília\, Distrito Federal\, 70719-900\, Brasil
CATEGORIES:Diretoria,Reuniões
END:VEVENT
BEGIN:VEVENT
DTSTART;VALUE=DATE:20220822
DTEND;VALUE=DATE:20220823
DTSTAMP:20260425T124926
CREATED:20220331T121648Z
LAST-MODIFIED:20220331T121649Z
UID:6903-1661126400-1661212799@cfb.org.br
SUMMARY:Reunião Virtual
DESCRIPTION:
URL:https://cfb.org.br/evento/reuniao-virtual-5/
LOCATION:Virtual
CATEGORIES:Reuniões
END:VEVENT
BEGIN:VEVENT
DTSTART;TZID=UTC:20220823T080000
DTEND;TZID=UTC:20220823T170000
DTSTAMP:20260425T124926
CREATED:20220407T125955Z
LAST-MODIFIED:20220407T125955Z
UID:6932-1661241600-1661274000@cfb.org.br
SUMMARY:Reunião Virtual
DESCRIPTION:
URL:https://cfb.org.br/evento/reuniao-virtual-12/
LOCATION:Virtual
END:VEVENT
BEGIN:VEVENT
DTSTART;VALUE=DATE:20220824
DTEND;VALUE=DATE:20220825
DTSTAMP:20260425T124926
CREATED:20220407T130033Z
LAST-MODIFIED:20220407T130034Z
UID:6934-1661299200-1661385599@cfb.org.br
SUMMARY:Reunião Virtual
DESCRIPTION:
URL:https://cfb.org.br/evento/reuniao-virtual-13/
LOCATION:Virtual
CATEGORIES:Reuniões
END:VEVENT
BEGIN:VEVENT
DTSTART;VALUE=DATE:20220825
DTEND;VALUE=DATE:20220826
DTSTAMP:20260425T124926
CREATED:20220407T130129Z
LAST-MODIFIED:20220407T130130Z
UID:6936-1661385600-1661471999@cfb.org.br
SUMMARY:Reunião Virtual
DESCRIPTION:
URL:https://cfb.org.br/evento/reuniao-virtual-14/
LOCATION:Virtual
CATEGORIES:Reuniões
END:VEVENT
BEGIN:VEVENT
DTSTART;VALUE=DATE:20220826
DTEND;VALUE=DATE:20220827
DTSTAMP:20260425T124926
CREATED:20220407T130231Z
LAST-MODIFIED:20220407T130231Z
UID:6938-1661472000-1661558399@cfb.org.br
SUMMARY:Reunião Virtual
DESCRIPTION:
URL:https://cfb.org.br/evento/reuniao-virtual-15/
LOCATION:Virtual
CATEGORIES:Reuniões
END:VEVENT
BEGIN:VEVENT
DTSTART;VALUE=DATE:20220827
DTEND;VALUE=DATE:20220828
DTSTAMP:20260425T124926
CREATED:20220107T162842Z
LAST-MODIFIED:20220107T162842Z
UID:6609-1661558400-1661644799@cfb.org.br
SUMMARY:Reunião de Diretoria
DESCRIPTION:
URL:https://cfb.org.br/evento/reuniao-de-diretoria-12/
LOCATION:Conselho Federal de Biblioteconomia\, SRTVN Ed Brasilia Radio Center\, Brasília\, Distrito Federal\, 70719-900\, Brasil
CATEGORIES:Diretoria,Reuniões
END:VEVENT
BEGIN:VEVENT
DTSTART;TZID=UTC:20220828T080000
DTEND;TZID=UTC:20220828T170000
DTSTAMP:20260425T124926
CREATED:20220107T162956Z
LAST-MODIFIED:20220107T162956Z
UID:6611-1661673600-1661706000@cfb.org.br
SUMMARY:Reunião de Diretoria
DESCRIPTION:
URL:https://cfb.org.br/evento/reuniao-de-diretoria-13/
LOCATION:Conselho Federal de Biblioteconomia\, SRTVN Ed Brasilia Radio Center\, Brasília\, Distrito Federal\, 70719-900\, Brasil
CATEGORIES:Diretoria,Reuniões
END:VEVENT
BEGIN:VEVENT
DTSTART;VALUE=DATE:20220914
DTEND;VALUE=DATE:20220915
DTSTAMP:20260425T124926
CREATED:20220331T121742Z
LAST-MODIFIED:20220331T121743Z
UID:6905-1663113600-1663199999@cfb.org.br
SUMMARY:Reunião Virtual
DESCRIPTION:
URL:https://cfb.org.br/evento/reuniao-virtual-6/
LOCATION:Virtual
CATEGORIES:Reuniões
END:VEVENT
BEGIN:VEVENT
DTSTART;VALUE=DATE:20220921
DTEND;VALUE=DATE:20220922
DTSTAMP:20260425T124926
CREATED:20220107T163123Z
LAST-MODIFIED:20220331T113134Z
UID:6613-1663718400-1663804799@cfb.org.br
SUMMARY:Reunião de Diretoria
DESCRIPTION:
URL:https://cfb.org.br/evento/reuniao-de-diretoria-14/
LOCATION:Conselho Federal de Biblioteconomia\, SRTVN Ed Brasilia Radio Center\, Brasília\, Distrito Federal\, 70719-900\, Brasil
CATEGORIES:Diretoria,Reuniões
END:VEVENT
BEGIN:VEVENT
DTSTART;VALUE=DATE:20220922
DTEND;VALUE=DATE:20220923
DTSTAMP:20260425T124926
CREATED:20220331T113539Z
LAST-MODIFIED:20220331T114236Z
UID:6884-1663804800-1663891199@cfb.org.br
SUMMARY:Reunião Comissões
DESCRIPTION:
URL:https://cfb.org.br/evento/reuniao-plenaria-3/
LOCATION:Conselho Federal de Biblioteconomia\, SRTVN Ed Brasilia Radio Center\, Brasília\, Distrito Federal\, 70719-900\, Brasil
CATEGORIES:Comissões,Plenária,Reuniões
END:VEVENT
BEGIN:VEVENT
DTSTART;VALUE=DATE:20220923
DTEND;VALUE=DATE:20220924
DTSTAMP:20260425T124926
CREATED:20220331T113757Z
LAST-MODIFIED:20220331T114228Z
UID:6886-1663891200-1663977599@cfb.org.br
SUMMARY:Reunião Comissões
DESCRIPTION:
URL:https://cfb.org.br/evento/reuniao-plenaria-4/
LOCATION:Conselho Federal de Biblioteconomia\, SRTVN Ed Brasilia Radio Center\, Brasília\, Distrito Federal\, 70719-900\, Brasil
CATEGORIES:Comissões,Plenária,Reuniões
END:VEVENT
BEGIN:VEVENT
DTSTART;VALUE=DATE:20220924
DTEND;VALUE=DATE:20220925
DTSTAMP:20260425T124926
CREATED:20220331T113940Z
LAST-MODIFIED:20220331T113958Z
UID:6888-1663977600-1664063999@cfb.org.br
SUMMARY:Reunião Plenária
DESCRIPTION:
URL:https://cfb.org.br/evento/reuniao-plenaria-5/
LOCATION:Conselho Federal de Biblioteconomia\, SRTVN Ed Brasilia Radio Center\, Brasília\, Distrito Federal\, 70719-900\, Brasil
CATEGORIES:Plenária,Reuniões
END:VEVENT
BEGIN:VEVENT
DTSTART;VALUE=DATE:20220925
DTEND;VALUE=DATE:20220926
DTSTAMP:20260425T124926
CREATED:20220331T114108Z
LAST-MODIFIED:20220331T114108Z
UID:6890-1664064000-1664150399@cfb.org.br
SUMMARY:Reunião Plenária
DESCRIPTION:
URL:https://cfb.org.br/evento/reuniao-plenaria-6/
LOCATION:Conselho Federal de Biblioteconomia\, SRTVN Ed Brasilia Radio Center\, Brasília\, Distrito Federal\, 70719-900\, Brasil
CATEGORIES:Plenária,Reuniões
END:VEVENT
BEGIN:VEVENT
DTSTART;VALUE=DATE:20221017
DTEND;VALUE=DATE:20221018
DTSTAMP:20260425T124926
CREATED:20220331T121850Z
LAST-MODIFIED:20220331T121851Z
UID:6907-1665964800-1666051199@cfb.org.br
SUMMARY:Reunião Virtual
DESCRIPTION:
URL:https://cfb.org.br/evento/reuniao-virtual-7/
LOCATION:Virtual
CATEGORIES:Reuniões
END:VEVENT
BEGIN:VEVENT
DTSTART;VALUE=DATE:20221018
DTEND;VALUE=DATE:20221019
DTSTAMP:20260425T124926
CREATED:20220407T130447Z
LAST-MODIFIED:20220407T130447Z
UID:6940-1666051200-1666137599@cfb.org.br
SUMMARY:Reunião Virtual
DESCRIPTION:
URL:https://cfb.org.br/evento/reuniao-virtual-16/
LOCATION:Virtual
CATEGORIES:Reuniões
END:VEVENT
BEGIN:VEVENT
DTSTART;VALUE=DATE:20221019
DTEND;VALUE=DATE:20221020
DTSTAMP:20260425T124926
CREATED:20220407T130529Z
LAST-MODIFIED:20220920T135039Z
UID:6942-1666137600-1666223999@cfb.org.br
SUMMARY:Reunião Virtual
DESCRIPTION:
URL:https://cfb.org.br/evento/reuniao-virtual-17/
LOCATION:Virtual
CATEGORIES:Reuniões
END:VEVENT
BEGIN:VEVENT
DTSTART;VALUE=DATE:20221020
DTEND;VALUE=DATE:20221021
DTSTAMP:20260425T124926
CREATED:20220407T130709Z
LAST-MODIFIED:20220407T130709Z
UID:6944-1666224000-1666310399@cfb.org.br
SUMMARY:Reunião Virtual
DESCRIPTION:
URL:https://cfb.org.br/evento/reuniao-virtual-18/
LOCATION:Virtual
CATEGORIES:Reuniões
END:VEVENT
BEGIN:VEVENT
DTSTART;VALUE=DATE:20221022
DTEND;VALUE=DATE:20221023
DTSTAMP:20260425T124926
CREATED:20220107T163824Z
LAST-MODIFIED:20220331T120228Z
UID:6621-1666396800-1666483199@cfb.org.br
SUMMARY:Reunião de Diretoria
DESCRIPTION:
URL:https://cfb.org.br/evento/reuniao-de-diretoria-16/
LOCATION:Conselho Federal de Biblioteconomia\, SRTVN Ed Brasilia Radio Center\, Brasília\, Distrito Federal\, 70719-900\, Brasil
CATEGORIES:Diretoria,Reuniões
END:VEVENT
BEGIN:VEVENT
DTSTART;VALUE=DATE:20221023
DTEND;VALUE=DATE:20221024
DTSTAMP:20260425T124926
CREATED:20220925T124655Z
LAST-MODIFIED:20220925T124655Z
UID:7240-1666483200-1666569599@cfb.org.br
SUMMARY:Reunião de Diretoria
DESCRIPTION:
URL:https://cfb.org.br/evento/reuniao-de-diretoria-15/
LOCATION:Conselho Federal de Biblioteconomia\, SRTVN Ed Brasilia Radio Center\, Brasília\, Distrito Federal\, 70719-900\, Brasil
CATEGORIES:Diretoria,Reuniões
END:VEVENT
BEGIN:VEVENT
DTSTART;VALUE=DATE:20221109
DTEND;VALUE=DATE:20221110
DTSTAMP:20260425T124926
CREATED:20220331T121936Z
LAST-MODIFIED:20220331T121936Z
UID:6909-1667952000-1668038399@cfb.org.br
SUMMARY:Reunião Virtual
DESCRIPTION:
URL:https://cfb.org.br/evento/reuniao-virtual-8/
LOCATION:Virtual
CATEGORIES:Reuniões
END:VEVENT
BEGIN:VEVENT
DTSTART;VALUE=DATE:20221125
DTEND;VALUE=DATE:20221126
DTSTAMP:20260425T124926
CREATED:20220925T120132Z
LAST-MODIFIED:20220925T120132Z
UID:7236-1669334400-1669420799@cfb.org.br
SUMMARY:Reunião de Diretoria
DESCRIPTION:
URL:https://cfb.org.br/evento/reuniao-de-diretoria-18/
LOCATION:Conselho Federal de Biblioteconomia\, SRTVN Ed Brasilia Radio Center\, Brasília\, Distrito Federal\, 70719-900\, Brasil
CATEGORIES:Diretoria,Reuniões
END:VEVENT
BEGIN:VEVENT
DTSTART;VALUE=DATE:20221126
DTEND;VALUE=DATE:20221127
DTSTAMP:20260425T124926
CREATED:20220925T115804Z
LAST-MODIFIED:20220925T120045Z
UID:7232-1669420800-1669507199@cfb.org.br
SUMMARY:Reunião Plenária
DESCRIPTION:
URL:https://cfb.org.br/evento/reuniao-de-diretoria-6/
LOCATION:Conselho Federal de Biblioteconomia\, SRTVN Ed Brasilia Radio Center\, Brasília\, Distrito Federal\, 70719-900\, Brasil
CATEGORIES:Eventos,Plenária,Reuniões
END:VEVENT
BEGIN:VEVENT
DTSTART;VALUE=DATE:20221127
DTEND;VALUE=DATE:20221128
DTSTAMP:20260425T124926
CREATED:20220925T120230Z
LAST-MODIFIED:20220925T120248Z
UID:7238-1669507200-1669593599@cfb.org.br
SUMMARY:Reunião Plenária
DESCRIPTION:
URL:https://cfb.org.br/evento/reuniao-plenaria-7/
LOCATION:Conselho Federal de Biblioteconomia\, SRTVN Ed Brasilia Radio Center\, Brasília\, Distrito Federal\, 70719-900\, Brasil
CATEGORIES:Plenária,Reuniões
END:VEVENT
BEGIN:VEVENT
DTSTART;VALUE=DATE:20221202
DTEND;VALUE=DATE:20221203
DTSTAMP:20260425T124926
CREATED:20220331T122023Z
LAST-MODIFIED:20220331T122023Z
UID:6911-1669939200-1670025599@cfb.org.br
SUMMARY:Reunião Virtual
DESCRIPTION:
URL:https://cfb.org.br/evento/reuniao-virtual-9/
LOCATION:Virtual
CATEGORIES:Reuniões
END:VEVENT
BEGIN:VEVENT
DTSTART;VALUE=DATE:20221203
DTEND;VALUE=DATE:20221204
DTSTAMP:20260425T124926
CREATED:20220407T130751Z
LAST-MODIFIED:20220407T130751Z
UID:6946-1670025600-1670111999@cfb.org.br
SUMMARY:Reunião Virtual
DESCRIPTION:
URL:https://cfb.org.br/evento/reuniao-virtual-19/
LOCATION:Virtual
CATEGORIES:Reuniões
END:VEVENT
BEGIN:VEVENT
DTSTART;VALUE=DATE:20221205
DTEND;VALUE=DATE:20221206
DTSTAMP:20260425T124926
CREATED:20220407T130902Z
LAST-MODIFIED:20220407T130925Z
UID:6948-1670198400-1670284799@cfb.org.br
SUMMARY:Reunião Virtual
DESCRIPTION:
URL:https://cfb.org.br/evento/reuniao-virtual-20/
LOCATION:Virtual
CATEGORIES:Reuniões
END:VEVENT
BEGIN:VEVENT
DTSTART;VALUE=DATE:20221210
DTEND;VALUE=DATE:20221211
DTSTAMP:20260425T124926
CREATED:20221206T170857Z
LAST-MODIFIED:20221206T170903Z
UID:7431-1670630400-1670716799@cfb.org.br
SUMMARY:Reunião de Diretoria
DESCRIPTION:
URL:https://cfb.org.br/evento/reuniao-de-diretoria-34/
LOCATION:Conselho Federal de Biblioteconomia\, SRTVN Ed Brasilia Radio Center\, Brasília\, Distrito Federal\, 70719-900\, Brasil
CATEGORIES:Diretoria,Reuniões
END:VEVENT
BEGIN:VEVENT
DTSTART;VALUE=DATE:20221211
DTEND;VALUE=DATE:20221212
DTSTAMP:20260425T124926
CREATED:20221206T171021Z
LAST-MODIFIED:20221206T171021Z
UID:7433-1670716800-1670803199@cfb.org.br
SUMMARY:Reunião de Diretoria
DESCRIPTION:
URL:https://cfb.org.br/evento/reuniao-de-diretoria-35/
LOCATION:Conselho Federal de Biblioteconomia\, SRTVN Ed Brasilia Radio Center\, Brasília\, Distrito Federal\, 70719-900\, Brasil
CATEGORIES:Diretoria,Reuniões
END:VEVENT
END:VCALENDAR