BEGIN:VCALENDAR
VERSION:2.0
PRODID:-//CFB - ECPv5.16.3.1//NONSGML v1.0//EN
CALSCALE:GREGORIAN
METHOD:PUBLISH
X-WR-CALNAME:CFB
X-ORIGINAL-URL:https://cfb.org.br
X-WR-CALDESC:Eventos para CFB
REFRESH-INTERVAL;VALUE=DURATION:PT1H
X-Robots-Tag:noindex
X-PUBLISHED-TTL:PT1H
BEGIN:VTIMEZONE
TZID:UTC
BEGIN:STANDARD
TZOFFSETFROM:+0000
TZOFFSETTO:+0000
TZNAME:UTC
DTSTART:20240101T000000
END:STANDARD
END:VTIMEZONE
BEGIN:VEVENT
DTSTART;VALUE=DATE:20240817
DTEND;VALUE=DATE:20240818
DTSTAMP:20260421T221848
CREATED:20240103T163704Z
LAST-MODIFIED:20240103T163704Z
UID:8089-1723852800-1723939199@cfb.org.br
SUMMARY:Reunião de Diretoria
DESCRIPTION:
URL:https://cfb.org.br/evento/reuniao-de-diretoria-46/
LOCATION:Conselho Federal de Biblioteconomia\, SRTVN Ed Brasilia Radio Center\, Brasília\, Distrito Federal\, 70719-900\, Brasil
CATEGORIES:Diretoria,Reuniões
END:VEVENT
BEGIN:VEVENT
DTSTART;VALUE=DATE:20240818
DTEND;VALUE=DATE:20240819
DTSTAMP:20260421T221848
CREATED:20240103T165036Z
LAST-MODIFIED:20240103T165036Z
UID:8091-1723939200-1724025599@cfb.org.br
SUMMARY:Reunião de Diretoria
DESCRIPTION:
URL:https://cfb.org.br/evento/reuniao-de-diretoria-47/
LOCATION:Conselho Federal de Biblioteconomia\, SRTVN Ed Brasilia Radio Center\, Brasília\, Distrito Federal\, 70719-900\, Brasil
CATEGORIES:Diretoria,Reuniões
END:VEVENT
BEGIN:VEVENT
DTSTART;VALUE=DATE:20240913
DTEND;VALUE=DATE:20240914
DTSTAMP:20260421T221848
CREATED:20240103T165209Z
LAST-MODIFIED:20240103T165209Z
UID:8093-1726185600-1726271999@cfb.org.br
SUMMARY:Reunião de Diretoria
DESCRIPTION:
URL:https://cfb.org.br/evento/reuniao-de-diretoria-48/
LOCATION:Conselho Federal de Biblioteconomia\, SRTVN Ed Brasilia Radio Center\, Brasília\, Distrito Federal\, 70719-900\, Brasil
CATEGORIES:Diretoria,Reuniões
END:VEVENT
BEGIN:VEVENT
DTSTART;VALUE=DATE:20240914
DTEND;VALUE=DATE:20240915
DTSTAMP:20260421T221848
CREATED:20240103T165327Z
LAST-MODIFIED:20240103T165327Z
UID:8095-1726272000-1726358399@cfb.org.br
SUMMARY:Reuniões das Comissões
DESCRIPTION:
URL:https://cfb.org.br/evento/reunioes-das-comissoes-4/
LOCATION:Conselho Federal de Biblioteconomia\, SRTVN Ed Brasilia Radio Center\, Brasília\, Distrito Federal\, 70719-900\, Brasil
CATEGORIES:Comissões,Reuniões
END:VEVENT
BEGIN:VEVENT
DTSTART;VALUE=DATE:20240915
DTEND;VALUE=DATE:20240916
DTSTAMP:20260421T221848
CREATED:20240103T165511Z
LAST-MODIFIED:20240103T165511Z
UID:8097-1726358400-1726444799@cfb.org.br
SUMMARY:Reuniões das Comissões
DESCRIPTION:
URL:https://cfb.org.br/evento/reunioes-das-comissoes-5/
LOCATION:Conselho Federal de Biblioteconomia\, SRTVN Ed Brasilia Radio Center\, Brasília\, Distrito Federal\, 70719-900\, Brasil
CATEGORIES:Comissões,Reuniões
END:VEVENT
BEGIN:VEVENT
DTSTART;TZID=UTC:20240916T080000
DTEND;TZID=UTC:20240916T170000
DTSTAMP:20260421T221848
CREATED:20240103T165634Z
LAST-MODIFIED:20240103T165634Z
UID:8099-1726473600-1726506000@cfb.org.br
SUMMARY:Reunião Plenária
DESCRIPTION:
URL:https://cfb.org.br/evento/reuniao-plenaria-19/
LOCATION:Conselho Federal de Biblioteconomia\, SRTVN Ed Brasilia Radio Center\, Brasília\, Distrito Federal\, 70719-900\, Brasil
CATEGORIES:Plenária,Reuniões
END:VEVENT
BEGIN:VEVENT
DTSTART;VALUE=DATE:20240917
DTEND;VALUE=DATE:20240918
DTSTAMP:20260421T221848
CREATED:20240103T165728Z
LAST-MODIFIED:20240103T165728Z
UID:8101-1726531200-1726617599@cfb.org.br
SUMMARY:Reunião Plenária
DESCRIPTION:
URL:https://cfb.org.br/evento/reuniao-plenaria-20/
LOCATION:Conselho Federal de Biblioteconomia\, SRTVN Ed Brasilia Radio Center\, Brasília\, Distrito Federal\, 70719-900\, Brasil
CATEGORIES:Plenária,Reuniões
END:VEVENT
BEGIN:VEVENT
DTSTART;VALUE=DATE:20241019
DTEND;VALUE=DATE:20241020
DTSTAMP:20260421T221848
CREATED:20240103T165935Z
LAST-MODIFIED:20240624T144008Z
UID:8103-1729296000-1729382399@cfb.org.br
SUMMARY:Assembleia Geral de Delegados Eleitores
DESCRIPTION:
URL:https://cfb.org.br/evento/assembleia-eleitoral/
LOCATION:Conselho Federal de Biblioteconomia\, SRTVN Ed Brasilia Radio Center\, Brasília\, Distrito Federal\, 70719-900\, Brasil
CATEGORIES:Assembleia Geral de Delegados Eleitores
END:VEVENT
BEGIN:VEVENT
DTSTART;VALUE=DATE:20241019
DTEND;VALUE=DATE:20241020
DTSTAMP:20260421T221848
CREATED:20240625T114645Z
LAST-MODIFIED:20240625T114803Z
UID:8394-1729296000-1729382399@cfb.org.br
SUMMARY:Reunião de Diretoria
DESCRIPTION:
URL:https://cfb.org.br/evento/reuniao-de-diretoria-50/
LOCATION:Conselho Federal de Biblioteconomia\, SRTVN Ed Brasilia Radio Center\, Brasília\, Distrito Federal\, 70719-900\, Brasil
CATEGORIES:Diretoria,Reuniões
END:VEVENT
BEGIN:VEVENT
DTSTART;VALUE=DATE:20241020
DTEND;VALUE=DATE:20241021
DTSTAMP:20260421T221848
CREATED:20240103T170127Z
LAST-MODIFIED:20240103T170127Z
UID:8105-1729382400-1729468799@cfb.org.br
SUMMARY:Reunião de Diretoria
DESCRIPTION:
URL:https://cfb.org.br/evento/reuniao-de-diretoria-49/
LOCATION:Conselho Federal de Biblioteconomia\, SRTVN Ed Brasilia Radio Center\, Brasília\, Distrito Federal\, 70719-900\, Brasil
CATEGORIES:Diretoria,Reuniões
END:VEVENT
BEGIN:VEVENT
DTSTART;VALUE=DATE:20241123
DTEND;VALUE=DATE:20241124
DTSTAMP:20260421T221848
CREATED:20240103T170552Z
LAST-MODIFIED:20240624T145114Z
UID:8111-1732320000-1732406399@cfb.org.br
SUMMARY:Reuniões de Comissões
DESCRIPTION:
URL:https://cfb.org.br/evento/reuniao-de-diretoria-52/
LOCATION:Conselho Federal de Biblioteconomia\, SRTVN Ed Brasilia Radio Center\, Brasília\, Distrito Federal\, 70719-900\, Brasil
CATEGORIES:Comissões,Reuniões
END:VEVENT
BEGIN:VEVENT
DTSTART;VALUE=DATE:20241124
DTEND;VALUE=DATE:20241125
DTSTAMP:20260421T221848
CREATED:20240103T170415Z
LAST-MODIFIED:20240624T145256Z
UID:8109-1732406400-1732492799@cfb.org.br
SUMMARY:Reuniões de Comissões
DESCRIPTION:
URL:https://cfb.org.br/evento/reuniao-de-diretoria-51/
LOCATION:Conselho Federal de Biblioteconomia\, SRTVN Ed Brasilia Radio Center\, Brasília\, Distrito Federal\, 70719-900\, Brasil
CATEGORIES:Comissões,Reuniões
END:VEVENT
BEGIN:VEVENT
DTSTART;TZID=UTC:20241125T080000
DTEND;TZID=UTC:20241125T170000
DTSTAMP:20260421T221848
CREATED:20240624T145454Z
LAST-MODIFIED:20240624T145847Z
UID:8385-1732521600-1732554000@cfb.org.br
SUMMARY:Reunião Plenária
DESCRIPTION:
URL:https://cfb.org.br/evento/reuniao-plenaria-16/
LOCATION:Conselho Federal de Biblioteconomia\, SRTVN Ed Brasilia Radio Center\, Brasília\, Distrito Federal\, 70719-900\, Brasil
CATEGORIES:Plenária,Reuniões
END:VEVENT
BEGIN:VEVENT
DTSTART;TZID=UTC:20241126T080000
DTEND;TZID=UTC:20241126T170000
DTSTAMP:20260421T221848
CREATED:20240624T145545Z
LAST-MODIFIED:20240624T150002Z
UID:8387-1732608000-1732640400@cfb.org.br
SUMMARY:Reunião Plenária
DESCRIPTION:
URL:https://cfb.org.br/evento/reuniao-plenaria-21/
LOCATION:Distrito Federal
CATEGORIES:Plenária,Reuniões
END:VEVENT
BEGIN:VEVENT
DTSTART;VALUE=DATE:20241214
DTEND;VALUE=DATE:20241215
DTSTAMP:20260421T221848
CREATED:20240103T170708Z
LAST-MODIFIED:20240624T144441Z
UID:8113-1734134400-1734220799@cfb.org.br
SUMMARY:Reunião de Diretoria
DESCRIPTION:
URL:https://cfb.org.br/evento/reuniao-de-diretoria-53/
LOCATION:Conselho Federal de Biblioteconomia\, SRTVN Ed Brasilia Radio Center\, Brasília\, Distrito Federal\, 70719-900\, Brasil
CATEGORIES:Diretoria,Reuniões
END:VEVENT
BEGIN:VEVENT
DTSTART;VALUE=DATE:20241215
DTEND;VALUE=DATE:20241216
DTSTAMP:20260421T221848
CREATED:20240103T171000Z
LAST-MODIFIED:20240624T144639Z
UID:8115-1734220800-1734307199@cfb.org.br
SUMMARY:Reunião de Diretoria
DESCRIPTION:
URL:https://cfb.org.br/evento/reunioes-das-comissoes-6/
LOCATION:Conselho Federal de Biblioteconomia\, SRTVN Ed Brasilia Radio Center\, Brasília\, Distrito Federal\, 70719-900\, Brasil
CATEGORIES:Diretoria,Reuniões
END:VEVENT
BEGIN:VEVENT
DTSTART;VALUE=DATE:20250114
DTEND;VALUE=DATE:20250115
DTSTAMP:20260421T221848
CREATED:20250114T135904Z
LAST-MODIFIED:20250114T135918Z
UID:8960-1736812800-1736899199@cfb.org.br
SUMMARY:Reunião de Comissões
DESCRIPTION:
URL:https://cfb.org.br/evento/reuniao-de-comissoes-15/
LOCATION:Conselho Federal de Biblioteconomia\, SRTVN Ed Brasilia Radio Center\, Brasília\, Distrito Federal\, 70719-900\, Brasil
CATEGORIES:Comissões,Reuniões
END:VEVENT
BEGIN:VEVENT
DTSTART;VALUE=DATE:20250118
DTEND;VALUE=DATE:20250119
DTSTAMP:20260421T221848
CREATED:20250114T125856Z
LAST-MODIFIED:20250114T125856Z
UID:8891-1737158400-1737244799@cfb.org.br
SUMMARY:Reunião de Diretoria
DESCRIPTION:
URL:https://cfb.org.br/evento/reuniao-de-diretoria-54/
LOCATION:Distrito Federal
CATEGORIES:Diretoria,Reuniões
END:VEVENT
BEGIN:VEVENT
DTSTART;VALUE=DATE:20250119
DTEND;VALUE=DATE:20250120
DTSTAMP:20260421T221848
CREATED:20250114T130005Z
LAST-MODIFIED:20250114T130027Z
UID:8893-1737244800-1737331199@cfb.org.br
SUMMARY:Reunião de Diretoria
DESCRIPTION:
URL:https://cfb.org.br/evento/reuniao-de-diretoria-55/
LOCATION:Conselho Federal de Biblioteconomia\, SRTVN Ed Brasilia Radio Center\, Brasília\, Distrito Federal\, 70719-900\, Brasil
CATEGORIES:Diretoria,Reuniões
END:VEVENT
BEGIN:VEVENT
DTSTART;VALUE=DATE:20250222
DTEND;VALUE=DATE:20250223
DTSTAMP:20260421T221848
CREATED:20250114T130118Z
LAST-MODIFIED:20250114T130118Z
UID:8895-1740182400-1740268799@cfb.org.br
SUMMARY:Reunião de Diretoria
DESCRIPTION:
URL:https://cfb.org.br/evento/reuniao-de-diretoria-56/
LOCATION:Conselho Federal de Biblioteconomia\, SRTVN Ed Brasilia Radio Center\, Brasília\, Distrito Federal\, 70719-900\, Brasil
CATEGORIES:Diretoria,Reuniões
END:VEVENT
BEGIN:VEVENT
DTSTART;VALUE=DATE:20250223
DTEND;VALUE=DATE:20250224
DTSTAMP:20260421T221848
CREATED:20250114T130156Z
LAST-MODIFIED:20250114T130156Z
UID:8897-1740268800-1740355199@cfb.org.br
SUMMARY:Reunião de Diretoria
DESCRIPTION:
URL:https://cfb.org.br/evento/reuniao-de-diretoria-57/
LOCATION:Conselho Federal de Biblioteconomia\, SRTVN Ed Brasilia Radio Center\, Brasília\, Distrito Federal\, 70719-900\, Brasil
CATEGORIES:Diretoria,Reuniões
END:VEVENT
BEGIN:VEVENT
DTSTART;VALUE=DATE:20250328
DTEND;VALUE=DATE:20250329
DTSTAMP:20260421T221848
CREATED:20250114T130301Z
LAST-MODIFIED:20250114T130301Z
UID:8899-1743120000-1743206399@cfb.org.br
SUMMARY:Reunião de Diretoria
DESCRIPTION:
URL:https://cfb.org.br/evento/reuniao-de-diretoria-58/
LOCATION:Conselho Federal de Biblioteconomia\, SRTVN Ed Brasilia Radio Center\, Brasília\, Distrito Federal\, 70719-900\, Brasil
CATEGORIES:Diretoria,Reuniões
END:VEVENT
BEGIN:VEVENT
DTSTART;VALUE=DATE:20250329
DTEND;VALUE=DATE:20250330
DTSTAMP:20260421T221848
CREATED:20250114T130430Z
LAST-MODIFIED:20250114T130430Z
UID:8901-1743206400-1743292799@cfb.org.br
SUMMARY:Reunião de Comissões
DESCRIPTION:
URL:https://cfb.org.br/evento/reuniao-de-comissoes-10/
LOCATION:Conselho Federal de Biblioteconomia\, SRTVN Ed Brasilia Radio Center\, Brasília\, Distrito Federal\, 70719-900\, Brasil
CATEGORIES:Comissões,Reuniões
END:VEVENT
BEGIN:VEVENT
DTSTART;VALUE=DATE:20250330
DTEND;VALUE=DATE:20250331
DTSTAMP:20260421T221848
CREATED:20250114T130534Z
LAST-MODIFIED:20250114T130619Z
UID:8903-1743292800-1743379199@cfb.org.br
SUMMARY:Reunião de Comissões
DESCRIPTION:
URL:https://cfb.org.br/evento/reuniao-de-comissoes-11/
LOCATION:Conselho Federal de Biblioteconomia\, SRTVN Ed Brasilia Radio Center\, Brasília\, Distrito Federal\, 70719-900\, Brasil
CATEGORIES:Comissões,Reuniões
END:VEVENT
BEGIN:VEVENT
DTSTART;VALUE=DATE:20250331
DTEND;VALUE=DATE:20250401
DTSTAMP:20260421T221848
CREATED:20250114T130723Z
LAST-MODIFIED:20250114T130723Z
UID:8905-1743379200-1743465599@cfb.org.br
SUMMARY:Reunião Plenária do CFB
DESCRIPTION:
URL:https://cfb.org.br/evento/reuniao-plenaria-do-cfb-2/
LOCATION:Conselho Federal de Biblioteconomia\, SRTVN Ed Brasilia Radio Center\, Brasília\, Distrito Federal\, 70719-900\, Brasil
CATEGORIES:Plenária,Reuniões
END:VEVENT
BEGIN:VEVENT
DTSTART;VALUE=DATE:20250401
DTEND;VALUE=DATE:20250402
DTSTAMP:20260421T221848
CREATED:20250114T130903Z
LAST-MODIFIED:20250114T130903Z
UID:8907-1743465600-1743551999@cfb.org.br
SUMMARY:Reunião Plenária do CFB
DESCRIPTION:
URL:https://cfb.org.br/evento/reuniao-plenaria-do-cfb-3/
LOCATION:Conselho Federal de Biblioteconomia\, SRTVN Ed Brasilia Radio Center\, Brasília\, Distrito Federal\, 70719-900\, Brasil
CATEGORIES:Plenária,Reuniões
END:VEVENT
BEGIN:VEVENT
DTSTART;VALUE=DATE:20250427
DTEND;VALUE=DATE:20250428
DTSTAMP:20260421T221848
CREATED:20250114T131126Z
LAST-MODIFIED:20250114T131212Z
UID:8911-1745712000-1745798399@cfb.org.br
SUMMARY:Reunião Diretoria
DESCRIPTION:
URL:https://cfb.org.br/evento/reuniao-diretoria-8/
LOCATION:Conselho Federal de Biblioteconomia\, SRTVN Ed Brasilia Radio Center\, Brasília\, Distrito Federal\, 70719-900\, Brasil
CATEGORIES:Diretoria,Reuniões
END:VEVENT
BEGIN:VEVENT
DTSTART;VALUE=DATE:20250428
DTEND;VALUE=DATE:20250429
DTSTAMP:20260421T221848
CREATED:20250114T131028Z
LAST-MODIFIED:20250119T160246Z
UID:8909-1745798400-1745884799@cfb.org.br
SUMMARY:Reunião Diretoria
DESCRIPTION:
URL:https://cfb.org.br/evento/reuniao-diretoria-7/
LOCATION:Conselho Federal de Biblioteconomia\, SRTVN Ed Brasilia Radio Center\, Brasília\, Distrito Federal\, 70719-900\, Brasil
CATEGORIES:Diretoria,Reuniões
END:VEVENT
BEGIN:VEVENT
DTSTART;VALUE=DATE:20250525
DTEND;VALUE=DATE:20250526
DTSTAMP:20260421T221848
CREATED:20250114T131352Z
LAST-MODIFIED:20250114T131352Z
UID:8916-1748131200-1748217599@cfb.org.br
SUMMARY:Reunião Diretoria
DESCRIPTION:
URL:https://cfb.org.br/evento/reuniao-diretoria-10/
LOCATION:Conselho Federal de Biblioteconomia\, SRTVN Ed Brasilia Radio Center\, Brasília\, Distrito Federal\, 70719-900\, Brasil
CATEGORIES:Diretoria,Reuniões
END:VEVENT
BEGIN:VEVENT
DTSTART;VALUE=DATE:20250526
DTEND;VALUE=DATE:20250527
DTSTAMP:20260421T221848
CREATED:20250114T131313Z
LAST-MODIFIED:20250119T160504Z
UID:8914-1748217600-1748303999@cfb.org.br
SUMMARY:Reunião Diretoria
DESCRIPTION:
URL:https://cfb.org.br/evento/reuniao-diretoria-9/
LOCATION:Conselho Federal de Biblioteconomia\, SRTVN Ed Brasilia Radio Center\, Brasília\, Distrito Federal\, 70719-900\, Brasil
CATEGORIES:Diretoria,Reuniões
END:VEVENT
END:VCALENDAR