BEGIN:VCALENDAR
VERSION:2.0
PRODID:-//CFB - ECPv5.16.3.1//NONSGML v1.0//EN
CALSCALE:GREGORIAN
METHOD:PUBLISH
X-WR-CALNAME:CFB
X-ORIGINAL-URL:https://cfb.org.br
X-WR-CALDESC:Eventos para CFB
REFRESH-INTERVAL;VALUE=DURATION:PT1H
X-Robots-Tag:noindex
X-PUBLISHED-TTL:PT1H
BEGIN:VTIMEZONE
TZID:UTC
BEGIN:STANDARD
TZOFFSETFROM:+0000
TZOFFSETTO:+0000
TZNAME:UTC
DTSTART:20230101T000000
END:STANDARD
END:VTIMEZONE
BEGIN:VEVENT
DTSTART;VALUE=DATE:20230114
DTEND;VALUE=DATE:20230115
DTSTAMP:20260422T192740
CREATED:20221206T142206Z
LAST-MODIFIED:20221206T142221Z
UID:7357-1673654400-1673740799@cfb.org.br
SUMMARY:Reunião de Diretoria
DESCRIPTION:
URL:https://cfb.org.br/evento/reuniao-de-diretoria-17/
LOCATION:Conselho Federal de Biblioteconomia\, SRTVN Ed Brasilia Radio Center\, Brasília\, Distrito Federal\, 70719-900\, Brasil
END:VEVENT
BEGIN:VEVENT
DTSTART;VALUE=DATE:20230115
DTEND;VALUE=DATE:20230116
DTSTAMP:20260422T192740
CREATED:20221206T142323Z
LAST-MODIFIED:20221206T142342Z
UID:7359-1673740800-1673827199@cfb.org.br
SUMMARY:Reunião de Diretoria
DESCRIPTION:
URL:https://cfb.org.br/evento/reuniao-de-diretoria-19/
LOCATION:Conselho Federal de Biblioteconomia\, SRTVN Ed Brasilia Radio Center\, Brasília\, Distrito Federal\, 70719-900\, Brasil
END:VEVENT
BEGIN:VEVENT
DTSTART;VALUE=DATE:20230211
DTEND;VALUE=DATE:20230212
DTSTAMP:20260422T192740
CREATED:20221206T142535Z
LAST-MODIFIED:20221206T142535Z
UID:7361-1676073600-1676159999@cfb.org.br
SUMMARY:Reunião de Diretoria
DESCRIPTION:
URL:https://cfb.org.br/evento/reuniao-de-diretoria-22/
LOCATION:Conselho Federal de Biblioteconomia\, SRTVN Ed Brasilia Radio Center\, Brasília\, Distrito Federal\, 70719-900\, Brasil
CATEGORIES:Diretoria,Reuniões
END:VEVENT
BEGIN:VEVENT
DTSTART;TZID=UTC:20230212T080000
DTEND;TZID=UTC:20230212T170000
DTSTAMP:20260422T192740
CREATED:20221206T142627Z
LAST-MODIFIED:20221206T142627Z
UID:7363-1676188800-1676221200@cfb.org.br
SUMMARY:Reunião de Diretoria
DESCRIPTION:
URL:https://cfb.org.br/evento/reuniao-de-diretoria-23/
LOCATION:Conselho Federal de Biblioteconomia\, SRTVN Ed Brasilia Radio Center\, Brasília\, Distrito Federal\, 70719-900\, Brasil
CATEGORIES:Diretoria,Reuniões
END:VEVENT
BEGIN:VEVENT
DTSTART;TZID=UTC:20230322T080000
DTEND;TZID=UTC:20230322T170000
DTSTAMP:20260422T192740
CREATED:20221206T142821Z
LAST-MODIFIED:20221206T142821Z
UID:7365-1679472000-1679504400@cfb.org.br
SUMMARY:Reunião de Diretoria
DESCRIPTION:
URL:https://cfb.org.br/evento/reuniao-de-diretoria-24/
LOCATION:Conselho Federal de Biblioteconomia\, SRTVN Ed Brasilia Radio Center\, Brasília\, Distrito Federal\, 70719-900\, Brasil
CATEGORIES:Diretoria,Reuniões
END:VEVENT
BEGIN:VEVENT
DTSTART;VALUE=DATE:20230323
DTEND;VALUE=DATE:20230324
DTSTAMP:20260422T192740
CREATED:20221206T142938Z
LAST-MODIFIED:20221206T142955Z
UID:7367-1679529600-1679615999@cfb.org.br
SUMMARY:Reunião de Comissões
DESCRIPTION:
URL:https://cfb.org.br/evento/reuniao-de-comissoes-5/
LOCATION:Conselho Federal de Biblioteconomia\, SRTVN Ed Brasilia Radio Center\, Brasília\, Distrito Federal\, 70719-900\, Brasil
CATEGORIES:Comissões,Reuniões
END:VEVENT
BEGIN:VEVENT
DTSTART;VALUE=DATE:20230324
DTEND;VALUE=DATE:20230325
DTSTAMP:20260422T192740
CREATED:20221206T143102Z
LAST-MODIFIED:20221206T143102Z
UID:7369-1679616000-1679702399@cfb.org.br
SUMMARY:Reunião de Comissões
DESCRIPTION:
URL:https://cfb.org.br/evento/reuniao-de-comissoes-6/
LOCATION:Conselho Federal de Biblioteconomia\, SRTVN Ed Brasilia Radio Center\, Brasília\, Distrito Federal\, 70719-900\, Brasil
CATEGORIES:Comissões,Reuniões
END:VEVENT
BEGIN:VEVENT
DTSTART;VALUE=DATE:20230325
DTEND;VALUE=DATE:20230326
DTSTAMP:20260422T192740
CREATED:20221206T143219Z
LAST-MODIFIED:20221206T143335Z
UID:7371-1679702400-1679788799@cfb.org.br
SUMMARY:Reunião Plenária
DESCRIPTION:
URL:https://cfb.org.br/evento/reuniao-plenaria-8/
LOCATION:Conselho Federal de Biblioteconomia\, SRTVN Ed Brasilia Radio Center\, Brasília\, Distrito Federal\, 70719-900\, Brasil
CATEGORIES:Plenária,Reuniões
END:VEVENT
BEGIN:VEVENT
DTSTART;VALUE=DATE:20230326
DTEND;VALUE=DATE:20230327
DTSTAMP:20260422T192740
CREATED:20221206T143439Z
LAST-MODIFIED:20221206T143508Z
UID:7373-1679788800-1679875199@cfb.org.br
SUMMARY:Reunião Plenária
DESCRIPTION:
URL:https://cfb.org.br/evento/reuniao-plenaria-9/
LOCATION:Conselho Federal de Biblioteconomia\, SRTVN Ed Brasilia Radio Center\, Brasília\, Distrito Federal\, 70719-900\, Brasil
CATEGORIES:Plenária,Reuniões
END:VEVENT
BEGIN:VEVENT
DTSTART;VALUE=DATE:20230415
DTEND;VALUE=DATE:20230416
DTSTAMP:20260422T192740
CREATED:20221206T160453Z
LAST-MODIFIED:20221206T160453Z
UID:7375-1681516800-1681603199@cfb.org.br
SUMMARY:Reunião Diretoria
DESCRIPTION:
URL:https://cfb.org.br/evento/reuniao-diretoria/
LOCATION:Conselho Federal de Biblioteconomia\, SRTVN Ed Brasilia Radio Center\, Brasília\, Distrito Federal\, 70719-900\, Brasil
CATEGORIES:Diretoria,Reuniões
END:VEVENT
BEGIN:VEVENT
DTSTART;VALUE=DATE:20230416
DTEND;VALUE=DATE:20230417
DTSTAMP:20260422T192740
CREATED:20221206T160555Z
LAST-MODIFIED:20221206T160555Z
UID:7377-1681603200-1681689599@cfb.org.br
SUMMARY:Reunião Diretoria
DESCRIPTION:
URL:https://cfb.org.br/evento/reuniao-diretoria-2/
LOCATION:Conselho Federal de Biblioteconomia\, SRTVN Ed Brasilia Radio Center\, Brasília\, Distrito Federal\, 70719-900\, Brasil
CATEGORIES:Diretoria,Reuniões
END:VEVENT
BEGIN:VEVENT
DTSTART;VALUE=DATE:20230520
DTEND;VALUE=DATE:20230521
DTSTAMP:20260422T192740
CREATED:20221206T160713Z
LAST-MODIFIED:20221206T160826Z
UID:7379-1684540800-1684627199@cfb.org.br
SUMMARY:Reunião Diretoria
DESCRIPTION:
URL:https://cfb.org.br/evento/reuniao-diretoria-3/
LOCATION:Conselho Federal de Biblioteconomia\, SRTVN Ed Brasilia Radio Center\, Brasília\, Distrito Federal\, 70719-900\, Brasil
CATEGORIES:Diretoria,Reuniões
END:VEVENT
BEGIN:VEVENT
DTSTART;VALUE=DATE:20230521
DTEND;VALUE=DATE:20230522
DTSTAMP:20260422T192740
CREATED:20221206T160937Z
LAST-MODIFIED:20221206T161029Z
UID:7381-1684627200-1684713599@cfb.org.br
SUMMARY:Reunião Diretoria
DESCRIPTION:
URL:https://cfb.org.br/evento/reuniao-diretoria-4/
LOCATION:Conselho Federal de Biblioteconomia\, SRTVN Ed Brasilia Radio Center\, Brasília\, Distrito Federal\, 70719-900\, Brasil
CATEGORIES:Diretoria,Reuniões
END:VEVENT
BEGIN:VEVENT
DTSTART;VALUE=DATE:20230606
DTEND;VALUE=DATE:20230607
DTSTAMP:20260422T192740
CREATED:20221206T161129Z
LAST-MODIFIED:20221206T161129Z
UID:7383-1686009600-1686095999@cfb.org.br
SUMMARY:Reunião Diretoria
DESCRIPTION:
URL:https://cfb.org.br/evento/reuniao-diretoria-5/
LOCATION:Conselho Federal de Biblioteconomia\, SRTVN Ed Brasilia Radio Center\, Brasília\, Distrito Federal\, 70719-900\, Brasil
CATEGORIES:Diretoria,Reuniões
END:VEVENT
BEGIN:VEVENT
DTSTART;VALUE=DATE:20230607
DTEND;VALUE=DATE:20230608
DTSTAMP:20260422T192740
CREATED:20221206T161319Z
LAST-MODIFIED:20221206T161319Z
UID:7385-1686096000-1686182399@cfb.org.br
SUMMARY:Reunião de Comissão
DESCRIPTION:
URL:https://cfb.org.br/evento/reuniao-de-comissao/
LOCATION:Conselho Federal de Biblioteconomia\, SRTVN Ed Brasilia Radio Center\, Brasília\, Distrito Federal\, 70719-900\, Brasil
CATEGORIES:Comissões,Reuniões
END:VEVENT
BEGIN:VEVENT
DTSTART;VALUE=DATE:20230608
DTEND;VALUE=DATE:20230609
DTSTAMP:20260422T192740
CREATED:20221206T161517Z
LAST-MODIFIED:20221206T161517Z
UID:7387-1686182400-1686268799@cfb.org.br
SUMMARY:Reunião de Comissão
DESCRIPTION:
URL:https://cfb.org.br/evento/reuniao-de-comissao-2/
LOCATION:Conselho Federal de Biblioteconomia\, SRTVN Ed Brasilia Radio Center\, Brasília\, Distrito Federal\, 70719-900\, Brasil
CATEGORIES:Comissões,Reuniões
END:VEVENT
BEGIN:VEVENT
DTSTART;VALUE=DATE:20230609
DTEND;VALUE=DATE:20230610
DTSTAMP:20260422T192740
CREATED:20221206T162043Z
LAST-MODIFIED:20221206T162043Z
UID:7389-1686268800-1686355199@cfb.org.br
SUMMARY:Assembléia do Sistema
DESCRIPTION:
URL:https://cfb.org.br/evento/assembleia-do-sistema/
LOCATION:Conselho Federal de Biblioteconomia\, SRTVN Ed Brasilia Radio Center\, Brasília\, Distrito Federal\, 70719-900\, Brasil
CATEGORIES:Assembleia,Reuniões
END:VEVENT
BEGIN:VEVENT
DTSTART;TZID=UTC:20230610T080000
DTEND;TZID=UTC:20230610T170000
DTSTAMP:20260422T192740
CREATED:20221206T162205Z
LAST-MODIFIED:20221206T162205Z
UID:7391-1686384000-1686416400@cfb.org.br
SUMMARY:Reunião Plenária
DESCRIPTION:
URL:https://cfb.org.br/evento/reuniao-plenaria-10/
LOCATION:Conselho Federal de Biblioteconomia\, SRTVN Ed Brasilia Radio Center\, Brasília\, Distrito Federal\, 70719-900\, Brasil
CATEGORIES:Plenária,Reuniões
END:VEVENT
BEGIN:VEVENT
DTSTART;VALUE=DATE:20230611
DTEND;VALUE=DATE:20230612
DTSTAMP:20260422T192740
CREATED:20221206T162432Z
LAST-MODIFIED:20221206T162432Z
UID:7393-1686441600-1686527999@cfb.org.br
SUMMARY:Reunião Plenária
DESCRIPTION:
URL:https://cfb.org.br/evento/reuniao-plenaria-11/
LOCATION:Conselho Federal de Biblioteconomia\, SRTVN Ed Brasilia Radio Center\, Brasília\, Distrito Federal\, 70719-900\, Brasil
CATEGORIES:Plenária,Reuniões
END:VEVENT
BEGIN:VEVENT
DTSTART;TZID=UTC:20230715T080000
DTEND;TZID=UTC:20230715T170000
DTSTAMP:20260422T192740
CREATED:20221206T162531Z
LAST-MODIFIED:20221206T162531Z
UID:7395-1689408000-1689440400@cfb.org.br
SUMMARY:Reunião de Diretoria
DESCRIPTION:
URL:https://cfb.org.br/evento/reuniao-de-diretoria-25/
LOCATION:Conselho Federal de Biblioteconomia\, SRTVN Ed Brasilia Radio Center\, Brasília\, Distrito Federal\, 70719-900\, Brasil
CATEGORIES:Diretoria,Reuniões
END:VEVENT
BEGIN:VEVENT
DTSTART;VALUE=DATE:20230716
DTEND;VALUE=DATE:20230717
DTSTAMP:20260422T192740
CREATED:20221206T170355Z
LAST-MODIFIED:20230706T120527Z
UID:7429-1689465600-1689551999@cfb.org.br
SUMMARY:Reunião de Diretoria
DESCRIPTION:
URL:https://cfb.org.br/evento/reiniao-de-diretoria/
LOCATION:Conselho Federal de Biblioteconomia\, SRTVN Ed Brasilia Radio Center\, Brasília\, Distrito Federal\, 70719-900\, Brasil
CATEGORIES:Diretoria,Reuniões
END:VEVENT
BEGIN:VEVENT
DTSTART;VALUE=DATE:20230819
DTEND;VALUE=DATE:20230820
DTSTAMP:20260422T192740
CREATED:20221206T162621Z
LAST-MODIFIED:20221206T162911Z
UID:7397-1692403200-1692489599@cfb.org.br
SUMMARY:Reunião de Diretoria
DESCRIPTION:
URL:https://cfb.org.br/evento/reuniao-de-diretoria-26/
LOCATION:Conselho Federal de Biblioteconomia\, SRTVN Ed Brasilia Radio Center\, Brasília\, Distrito Federal\, 70719-900\, Brasil
CATEGORIES:Diretoria,Reuniões
END:VEVENT
BEGIN:VEVENT
DTSTART;VALUE=DATE:20230820
DTEND;VALUE=DATE:20230821
DTSTAMP:20260422T192740
CREATED:20221206T163015Z
LAST-MODIFIED:20221206T163015Z
UID:7399-1692489600-1692575999@cfb.org.br
SUMMARY:Reunião de Diretoria
DESCRIPTION:
URL:https://cfb.org.br/evento/reuniao-de-diretoria-27/
LOCATION:Conselho Federal de Biblioteconomia\, SRTVN Ed Brasilia Radio Center\, Brasília\, Distrito Federal\, 70719-900\, Brasil
CATEGORIES:Diretoria,Reuniões
END:VEVENT
BEGIN:VEVENT
DTSTART;VALUE=DATE:20230915
DTEND;VALUE=DATE:20230916
DTSTAMP:20260422T192740
CREATED:20221206T163855Z
LAST-MODIFIED:20230327T174902Z
UID:7409-1694736000-1694822399@cfb.org.br
SUMMARY:Reunião de Diretoria
DESCRIPTION:
URL:https://cfb.org.br/evento/reuniao-plenaria-13/
LOCATION:Conselho Federal de Biblioteconomia\, SRTVN Ed Brasilia Radio Center\, Brasília\, Distrito Federal\, 70719-900\, Brasil
CATEGORIES:Diretoria,Reuniões
END:VEVENT
BEGIN:VEVENT
DTSTART;VALUE=DATE:20230916
DTEND;VALUE=DATE:20230917
DTSTAMP:20260422T192740
CREATED:20221206T163622Z
LAST-MODIFIED:20230327T175411Z
UID:7403-1694822400-1694908799@cfb.org.br
SUMMARY:Reunião de Comissão
DESCRIPTION:
URL:https://cfb.org.br/evento/reuniao-de-comissao-3/
LOCATION:Conselho Federal de Biblioteconomia\, SRTVN Ed Brasilia Radio Center\, Brasília\, Distrito Federal\, 70719-900\, Brasil
CATEGORIES:Comissões,Reuniões
END:VEVENT
BEGIN:VEVENT
DTSTART;VALUE=DATE:20230917
DTEND;VALUE=DATE:20230918
DTSTAMP:20260422T192740
CREATED:20221206T163718Z
LAST-MODIFIED:20230327T175528Z
UID:7405-1694908800-1694995199@cfb.org.br
SUMMARY:Reunião de Comissão
DESCRIPTION:
URL:https://cfb.org.br/evento/reuniao-de-comissao-4/
LOCATION:Conselho Federal de Biblioteconomia\, SRTVN Ed Brasilia Radio Center\, Brasília\, Distrito Federal\, 70719-900\, Brasil
CATEGORIES:Comissões,Reuniões
END:VEVENT
BEGIN:VEVENT
DTSTART;VALUE=DATE:20230918
DTEND;VALUE=DATE:20230919
DTSTAMP:20260422T192740
CREATED:20221206T163123Z
LAST-MODIFIED:20230327T175626Z
UID:7401-1694995200-1695081599@cfb.org.br
SUMMARY:Reunião Plenária
DESCRIPTION:
URL:https://cfb.org.br/evento/reuniao-de-diretoria-28/
LOCATION:Conselho Federal de Biblioteconomia\, SRTVN Ed Brasilia Radio Center\, Brasília\, Distrito Federal\, 70719-900\, Brasil
CATEGORIES:Plenária,Reuniões
END:VEVENT
BEGIN:VEVENT
DTSTART;VALUE=DATE:20230919
DTEND;VALUE=DATE:20230920
DTSTAMP:20260422T192740
CREATED:20221206T163813Z
LAST-MODIFIED:20230327T175827Z
UID:7407-1695081600-1695167999@cfb.org.br
SUMMARY:Reunião Plenária
DESCRIPTION:
URL:https://cfb.org.br/evento/reuniao-plenaria-12/
LOCATION:Conselho Federal de Biblioteconomia\, SRTVN Ed Brasilia Radio Center\, Brasília\, Distrito Federal\, 70719-900\, Brasil
CATEGORIES:Plenária,Reuniões
END:VEVENT
BEGIN:VEVENT
DTSTART;VALUE=DATE:20231021
DTEND;VALUE=DATE:20231022
DTSTAMP:20260422T192740
CREATED:20221206T163956Z
LAST-MODIFIED:20221206T164028Z
UID:7411-1697846400-1697932799@cfb.org.br
SUMMARY:Reunião de Diretoria
DESCRIPTION:
URL:https://cfb.org.br/evento/reuniao-de-diretoria-29/
LOCATION:Conselho Federal de Biblioteconomia\, SRTVN Ed Brasilia Radio Center\, Brasília\, Distrito Federal\, 70719-900\, Brasil
CATEGORIES:Diretoria,Reuniões
END:VEVENT
BEGIN:VEVENT
DTSTART;VALUE=DATE:20231022
DTEND;VALUE=DATE:20231023
DTSTAMP:20260422T192740
CREATED:20221206T164141Z
LAST-MODIFIED:20221206T164141Z
UID:7413-1697932800-1698019199@cfb.org.br
SUMMARY:Reunião de Diretoria
DESCRIPTION:
URL:https://cfb.org.br/evento/reuniao-de-diretoria-30/
LOCATION:Conselho Federal de Biblioteconomia\, SRTVN Ed Brasilia Radio Center\, Brasília\, Distrito Federal\, 70719-900\, Brasil
CATEGORIES:Diretoria,Reuniões
END:VEVENT
END:VCALENDAR