BEGIN:VCALENDAR
VERSION:2.0
PRODID:-//CFB - ECPv5.16.3.1//NONSGML v1.0//EN
CALSCALE:GREGORIAN
METHOD:PUBLISH
X-ORIGINAL-URL:https://cfb.org.br
X-WR-CALDESC:Eventos para CFB
REFRESH-INTERVAL;VALUE=DURATION:PT1H
X-Robots-Tag:noindex
X-PUBLISHED-TTL:PT1H
BEGIN:VTIMEZONE
TZID:UTC
BEGIN:STANDARD
TZOFFSETFROM:+0000
TZOFFSETTO:+0000
TZNAME:UTC
DTSTART:20220101T000000
END:STANDARD
END:VTIMEZONE
BEGIN:VEVENT
DTSTART;TZID=UTC:20220616T080000
DTEND;TZID=UTC:20220616T170000
DTSTAMP:20260425T102712
CREATED:20220331T121412Z
LAST-MODIFIED:20220331T121413Z
UID:6899-1655366400-1655398800@cfb.org.br
SUMMARY:Reunião Virtual
DESCRIPTION:
URL:https://cfb.org.br/evento/reuniao-virtual-3/
LOCATION:Virtual
CATEGORIES:Reuniões
END:VEVENT
END:VCALENDAR